BEGIN:VCALENDAR
VERSION:2.0
PRODID:-//Dombóvári Cséry Lajos Evangélikus Általános Iskola és Alapfokú Művészeti Iskola - ECPv5.14.1//NONSGML v1.0//EN
CALSCALE:GREGORIAN
METHOD:PUBLISH
X-WR-CALNAME:Dombóvári Cséry Lajos Evangélikus Általános Iskola és Alapfokú Művészeti Iskola
X-ORIGINAL-URL:https://dei.lutheran.hu
X-WR-CALDESC:Events for Dombóvári Cséry Lajos Evangélikus Általános Iskola és Alapfokú Művészeti Iskola
REFRESH-INTERVAL;VALUE=DURATION:PT1H
X-Robots-Tag:noindex
X-PUBLISHED-TTL:PT1H
BEGIN:VTIMEZONE
TZID:Europe/Helsinki
BEGIN:DAYLIGHT
TZOFFSETFROM:+0200
TZOFFSETTO:+0300
TZNAME:EEST
DTSTART:20220327T010000
END:DAYLIGHT
BEGIN:STANDARD
TZOFFSETFROM:+0300
TZOFFSETTO:+0200
TZNAME:EET
DTSTART:20221030T010000
END:STANDARD
END:VTIMEZONE
BEGIN:VEVENT
DTSTART;TZID=Europe/Helsinki:20221108T160000
DTEND;TZID=Europe/Helsinki:20221108T170000
DTSTAMP:20260424T070922
CREATED:20221104T122302Z
LAST-MODIFIED:20221104T122302Z
UID:3746-1667923200-1667926800@dei.lutheran.hu
SUMMARY:Fogadóóra
DESCRIPTION:Iskolánk pedagógusainak fogadóórája november 8-án (kedden) 16 órától 17 óráig lesz. Az alsós tanítók a saját osztályukban várják a szülőket\, a felsősök beosztásáról tájékozódjon a facebookon!
URL:https://dei.lutheran.hu/event/fogadoora/
LOCATION:Dombóvári Evangélikus Iskola
END:VEVENT
BEGIN:VEVENT
DTSTART;TZID=Europe/Helsinki:20221108T100000
DTEND;TZID=Europe/Helsinki:20221108T160000
DTSTAMP:20260424T070922
CREATED:20221103T064753Z
LAST-MODIFIED:20221103T064753Z
UID:3744-1667901600-1667923200@dei.lutheran.hu
SUMMARY:Mesemondó verseny
DESCRIPTION:Iskolánk 2022. november 8-án rendezi az óvodások és alsó tagozatosok mesemondó versenyét. \nAz ovisok megmérettetése 10 órakor\, az alsósoké 14 órakor kezdődik. \n 
URL:https://dei.lutheran.hu/event/mesemondo-verseny/
LOCATION:Dombóvári Evangélikus Iskola
CATEGORIES:iskolai rendezvény
END:VEVENT
BEGIN:VEVENT
DTSTART;TZID=Europe/Helsinki:20221107T080000
DTEND;TZID=Europe/Helsinki:20221107T120000
DTSTAMP:20260424T070922
CREATED:20221026T061950Z
LAST-MODIFIED:20221026T061950Z
UID:3641-1667808000-1667822400@dei.lutheran.hu
SUMMARY:Nyílt nap a gimnáziumban
DESCRIPTION:Iskolánk végzős diákjait szeretettel várják az Illyés Gyula Gimnázium nyílt napján.
URL:https://dei.lutheran.hu/event/nyilt-nap-a-gimnaziumban/
END:VEVENT
BEGIN:VEVENT
DTSTART;TZID=Europe/Helsinki:20221104T150000
DTEND;TZID=Europe/Helsinki:20221104T153000
DTSTAMP:20260424T070922
CREATED:20221026T061530Z
LAST-MODIFIED:20221027T092156Z
UID:3639-1667574000-1667575800@dei.lutheran.hu
SUMMARY:1956. november 4.
DESCRIPTION:Az 56-os forradalom leverésének emléknapján iskolánk pedagógusai és diákjai készülnek ünnepi műsorral.
URL:https://dei.lutheran.hu/event/emlekezes-napja/
LOCATION:1956-os emlékmű
CATEGORIES:Nemzeti ünnep
ATTACH;FMTTYPE=image/jpeg:https://dei.lutheran.hu/wp-content/uploads/2022/10/312902278_524021493066175_1175298567015561883_n.jpg
END:VEVENT
BEGIN:VEVENT
DTSTART;TZID=Europe/Helsinki:20221027T140000
DTEND;TZID=Europe/Helsinki:20221027T160000
DTSTAMP:20260424T070922
CREATED:20221027T093257Z
LAST-MODIFIED:20221027T093257Z
UID:3677-1666879200-1666886400@dei.lutheran.hu
SUMMARY:Gólyaavató az 5. évfolyamosoknak
DESCRIPTION:Vicces\, játékos gólyaavatót tartunk az idén ötödik évfolyamba lépett a\, b és c osztálynak. A diákok bemutatkozója mellett sorversenyek\, ügyességi játékok színesítik a délutánt.
URL:https://dei.lutheran.hu/event/golyaavato-az-5-evfolyamosoknak/
LOCATION:Iskola tornacsarnoka\, Dombóvár
CATEGORIES:iskolai rendezvény
END:VEVENT
END:VCALENDAR