BEGIN:VCALENDAR
VERSION:2.0
PRODID:-//Dombóvári Cséry Lajos Evangélikus Általános Iskola és Alapfokú Művészeti Iskola - ECPv5.14.1//NONSGML v1.0//EN
CALSCALE:GREGORIAN
METHOD:PUBLISH
X-WR-CALNAME:Dombóvári Cséry Lajos Evangélikus Általános Iskola és Alapfokú Művészeti Iskola
X-ORIGINAL-URL:https://dei.lutheran.hu
X-WR-CALDESC:Events for Dombóvári Cséry Lajos Evangélikus Általános Iskola és Alapfokú Művészeti Iskola
REFRESH-INTERVAL;VALUE=DURATION:PT1H
X-Robots-Tag:noindex
X-PUBLISHED-TTL:PT1H
BEGIN:VTIMEZONE
TZID:Europe/Helsinki
BEGIN:DAYLIGHT
TZOFFSETFROM:+0200
TZOFFSETTO:+0300
TZNAME:EEST
DTSTART:20220327T010000
END:DAYLIGHT
BEGIN:STANDARD
TZOFFSETFROM:+0300
TZOFFSETTO:+0200
TZNAME:EET
DTSTART:20221030T010000
END:STANDARD
END:VTIMEZONE
BEGIN:VEVENT
DTSTART;TZID=Europe/Helsinki:20221208T170000
DTEND;TZID=Europe/Helsinki:20221208T183000
DTSTAMP:20260424T070922
CREATED:20221130T100650Z
LAST-MODIFIED:20221130T100650Z
UID:3973-1670518800-1670524200@dei.lutheran.hu
SUMMARY:Ölveti Gábor\, Pallos Marcell és Tóth Ada Eszter növendékeinek félévi vizsgahangversenye
DESCRIPTION:
URL:https://dei.lutheran.hu/event/olveti-gabor-pallos-marcell-es-toth-ada-eszter-novendekeinek-felevi-vizsgahangversenye/
LOCATION:Zeneiskola\, Bezerédj u. 2/b
CATEGORIES:zeneiskola
ATTACH;FMTTYPE=image/png:https://dei.lutheran.hu/wp-content/uploads/2022/11/12.08.-rez-fa-1.png
END:VEVENT
BEGIN:VEVENT
DTSTART;TZID=Europe/Helsinki:20221206T180000
DTEND;TZID=Europe/Helsinki:20221206T190000
DTSTAMP:20260424T070922
CREATED:20221130T100216Z
LAST-MODIFIED:20221130T100950Z
UID:3971-1670349600-1670353200@dei.lutheran.hu
SUMMARY:Kardos Tünde növendékeinek félévi vizsgahangversenye
DESCRIPTION:
URL:https://dei.lutheran.hu/event/kardos-tunde-novendekeinek-felevi-vizsgahangversenye/
LOCATION:Zeneiskola\, Bezerédj u. 2/b
CATEGORIES:zeneiskola
ATTACH;FMTTYPE=image/png:https://dei.lutheran.hu/wp-content/uploads/2022/11/12.16.-klarinet.png
END:VEVENT
BEGIN:VEVENT
DTSTART;TZID=Europe/Helsinki:20221201T180000
DTEND;TZID=Europe/Helsinki:20221201T190000
DTSTAMP:20260424T070922
CREATED:20221126T110104Z
LAST-MODIFIED:20221126T110104Z
UID:3961-1669917600-1669921200@dei.lutheran.hu
SUMMARY:Fordított hangverseny!
DESCRIPTION:A Művészeti Iskola növendékei kezükbe vették az irányítást\, hogy megszervezzék tanáraik idei “FORDÍTOTT” TANÁRI HANGVERSENYÉT. A szervező gyerekek nagyon szép plakátokat és meghívókat készítettek. A konferáló szöveget már bőszen gyakorolják és izgatottan várják\, hogy a koncert napján berendezhessék a hangversenytermet. JÓTÉKONYSÁGI HANGVERSENYÜNKRE várunk minden kedves érdeklődőt\, ahol egy süti\, vagy egy karácsonyfadísz megvásárlásával az ifjú művészpalánták tanulmányait támogathatják.\nTalálkozzunk 2022. december 1-én\, 18:00 órakor a Művészeti Iskola (Bezerédj u. 2/b) hangversenytermében.
URL:https://dei.lutheran.hu/event/forditott-hangverseny/
ATTACH;FMTTYPE=image/jpeg:https://dei.lutheran.hu/wp-content/uploads/2022/11/plakat-1.jpg
END:VEVENT
BEGIN:VEVENT
DTSTART;TZID=Europe/Helsinki:20221130T130000
DTEND;TZID=Europe/Helsinki:20221130T130000
DTSTAMP:20260424T070922
CREATED:20221116T082400Z
LAST-MODIFIED:20221116T082400Z
UID:3861-1669813200-1669813200@dei.lutheran.hu
SUMMARY:Belső továbbképzés
DESCRIPTION:Ezen a napon 13.00- tól csak gyerekfelügyeletet biztosítunk!
URL:https://dei.lutheran.hu/event/belso-tovabbkepzes/
CATEGORIES:Tájékoztató
END:VEVENT
BEGIN:VEVENT
DTSTART;TZID=Europe/Helsinki:20221129T080000
DTEND;TZID=Europe/Helsinki:20221129T120000
DTSTAMP:20260424T070922
CREATED:20221026T062651Z
LAST-MODIFIED:20221102T104737Z
UID:3646-1669708800-1669723200@dei.lutheran.hu
SUMMARY:Nyílt nap az Apáczaiban
DESCRIPTION:Iskolánk végzős diákjait szeretettel várják a Tolna Megyei SZC Apáczai Csere János Technikum és Kollégiumban.
URL:https://dei.lutheran.hu/event/nyilt-nap-az-apaczaiban-2/
CATEGORIES:külsős rendezvény
ATTACH;FMTTYPE=image/jpeg:https://dei.lutheran.hu/wp-content/uploads/2022/10/Nyilt_napok_apaczai.jpg
END:VEVENT
BEGIN:VEVENT
DTSTART;TZID=Europe/Helsinki:20221127T103000
DTEND;TZID=Europe/Helsinki:20221127T113000
DTSTAMP:20260424T070922
CREATED:20221025T111508Z
LAST-MODIFIED:20221124T080434Z
UID:3625-1669545000-1669548600@dei.lutheran.hu
SUMMARY:A várakozás öröme
DESCRIPTION:Könnyűzenés istentisztelet a Dombóvári Evangélikus Templomban
URL:https://dei.lutheran.hu/event/a-varakozas-izgalma/
LOCATION:Dombóvári Evangélikus Templom
CATEGORIES:Istentisztelet
ATTACH;FMTTYPE=image/jpeg:https://dei.lutheran.hu/wp-content/uploads/2022/10/315947499_5681492415233576_7332843948645047048_n.jpg
END:VEVENT
BEGIN:VEVENT
DTSTART;TZID=Europe/Helsinki:20221121T083000
DTEND;TZID=Europe/Helsinki:20221121T100000
DTSTAMP:20260424T070922
CREATED:20221117T104543Z
LAST-MODIFIED:20221117T104543Z
UID:3907-1669019400-1669024800@dei.lutheran.hu
SUMMARY:Filharmónia\, vonósnégyes
DESCRIPTION:
URL:https://dei.lutheran.hu/event/filharmonia-vonosnegyes/
LOCATION:Dombóvár\, Művelődési ház
END:VEVENT
BEGIN:VEVENT
DTSTART;TZID=Europe/Helsinki:20221117T133000
DTEND;TZID=Europe/Helsinki:20221117T143000
DTSTAMP:20260424T070922
CREATED:20221107T095441Z
LAST-MODIFIED:20221107T101319Z
UID:3770-1668691800-1668695400@dei.lutheran.hu
SUMMARY:Az erdő életközössége előadás
DESCRIPTION:Iskolánk 3. és 4. évfolyamosai hallgathatnak meg érdekes előadást az erdők élővilágáról. Az Országos Erdészeti Egyesület által biztosított edukációs program minden településen az Önkormányzat által megjelölt oktatási intézményben zajlik.
URL:https://dei.lutheran.hu/event/az-erdo-eletkozossege-eloadas/
CATEGORIES:iskolai rendezvény
END:VEVENT
BEGIN:VEVENT
DTSTART;TZID=Europe/Helsinki:20221115T080000
DTEND;TZID=Europe/Helsinki:20221115T120000
DTSTAMP:20260424T070922
CREATED:20221102T104337Z
LAST-MODIFIED:20221102T104337Z
UID:3729-1668499200-1668513600@dei.lutheran.hu
SUMMARY:Óvónők látogatása
DESCRIPTION:Iskolánk elsős tanulóit minden évben meglátogatják volt óvónénijeik. Erre az eseményre idén november 15-én kerül sor
URL:https://dei.lutheran.hu/event/ovonok-latogatasa/
LOCATION:Dombóvári Evangélikus Iskola
CATEGORIES:iskolai rendezvény
END:VEVENT
BEGIN:VEVENT
DTSTART;TZID=Europe/Helsinki:20221112T140000
DTEND;TZID=Europe/Helsinki:20221112T180000
DTSTAMP:20260424T070922
CREATED:20221025T112115Z
LAST-MODIFIED:20221025T112257Z
UID:3629-1668261600-1668276000@dei.lutheran.hu
SUMMARY:Családi és missziói nap
DESCRIPTION:Minden érdeklődőt szeretettel várunk! \nJelentkezni az iskola evangélikus hitoktatójánál\, Kiss Anikónál lehet!
URL:https://dei.lutheran.hu/event/egyhazmegyei-csaladi-es-misszioi-nap/
LOCATION:Dombóvári Belvárosi Általános és Alapfokú Művészeti Iskola\, Hunyadi tér 23.\, Dombóvár\, 7200
CATEGORIES:Egyházi alkalom
ATTACH;FMTTYPE=image/jpeg:https://dei.lutheran.hu/wp-content/uploads/2022/10/ehm-lap.jpg
END:VEVENT
BEGIN:VEVENT
DTSTART;TZID=Europe/Helsinki:20221110T153000
DTEND;TZID=Europe/Helsinki:20221110T180000
DTSTAMP:20260424T070922
CREATED:20221027T182314Z
LAST-MODIFIED:20221027T182314Z
UID:3681-1668094200-1668103200@dei.lutheran.hu
SUMMARY:Márton nap
DESCRIPTION:
URL:https://dei.lutheran.hu/event/marton-nap/
LOCATION:Dombóvári Evangélikus Iskola
ATTACH;FMTTYPE=image/jpeg:https://dei.lutheran.hu/wp-content/uploads/2022/10/marton-nap.jpg
END:VEVENT
BEGIN:VEVENT
DTSTART;TZID=Europe/Helsinki:20221110T080000
DTEND;TZID=Europe/Helsinki:20221110T120000
DTSTAMP:20260424T070922
CREATED:20221026T062442Z
LAST-MODIFIED:20221102T105252Z
UID:3643-1668067200-1668081600@dei.lutheran.hu
SUMMARY:Nyílt nap az Apáczaiban
DESCRIPTION:Iskolánk végzős diákjait szeretettel várják a Tolna Megyei SZC Apáczai Csere János Technikum és Kollégiumban.
URL:https://dei.lutheran.hu/event/nyilt-nap-az-apaczaiban/
LOCATION:olna Vármegyei SZC Apáczai Csere János Technikum és Kollégium\, Dombóvár
ATTACH;FMTTYPE=image/jpeg:https://dei.lutheran.hu/wp-content/uploads/2022/10/Nyilt_napok_apaczai.jpg
END:VEVENT
BEGIN:VEVENT
DTSTART;TZID=Europe/Helsinki:20221108T160000
DTEND;TZID=Europe/Helsinki:20221108T170000
DTSTAMP:20260424T070922
CREATED:20221104T122302Z
LAST-MODIFIED:20221104T122302Z
UID:3746-1667923200-1667926800@dei.lutheran.hu
SUMMARY:Fogadóóra
DESCRIPTION:Iskolánk pedagógusainak fogadóórája november 8-án (kedden) 16 órától 17 óráig lesz. Az alsós tanítók a saját osztályukban várják a szülőket\, a felsősök beosztásáról tájékozódjon a facebookon!
URL:https://dei.lutheran.hu/event/fogadoora/
LOCATION:Dombóvári Evangélikus Iskola
END:VEVENT
BEGIN:VEVENT
DTSTART;TZID=Europe/Helsinki:20221108T100000
DTEND;TZID=Europe/Helsinki:20221108T160000
DTSTAMP:20260424T070922
CREATED:20221103T064753Z
LAST-MODIFIED:20221103T064753Z
UID:3744-1667901600-1667923200@dei.lutheran.hu
SUMMARY:Mesemondó verseny
DESCRIPTION:Iskolánk 2022. november 8-án rendezi az óvodások és alsó tagozatosok mesemondó versenyét. \nAz ovisok megmérettetése 10 órakor\, az alsósoké 14 órakor kezdődik. \n 
URL:https://dei.lutheran.hu/event/mesemondo-verseny/
LOCATION:Dombóvári Evangélikus Iskola
CATEGORIES:iskolai rendezvény
END:VEVENT
BEGIN:VEVENT
DTSTART;TZID=Europe/Helsinki:20221107T080000
DTEND;TZID=Europe/Helsinki:20221107T120000
DTSTAMP:20260424T070922
CREATED:20221026T061950Z
LAST-MODIFIED:20221026T061950Z
UID:3641-1667808000-1667822400@dei.lutheran.hu
SUMMARY:Nyílt nap a gimnáziumban
DESCRIPTION:Iskolánk végzős diákjait szeretettel várják az Illyés Gyula Gimnázium nyílt napján.
URL:https://dei.lutheran.hu/event/nyilt-nap-a-gimnaziumban/
END:VEVENT
BEGIN:VEVENT
DTSTART;TZID=Europe/Helsinki:20221104T150000
DTEND;TZID=Europe/Helsinki:20221104T153000
DTSTAMP:20260424T070922
CREATED:20221026T061530Z
LAST-MODIFIED:20221027T092156Z
UID:3639-1667574000-1667575800@dei.lutheran.hu
SUMMARY:1956. november 4.
DESCRIPTION:Az 56-os forradalom leverésének emléknapján iskolánk pedagógusai és diákjai készülnek ünnepi műsorral.
URL:https://dei.lutheran.hu/event/emlekezes-napja/
LOCATION:1956-os emlékmű
CATEGORIES:Nemzeti ünnep
ATTACH;FMTTYPE=image/jpeg:https://dei.lutheran.hu/wp-content/uploads/2022/10/312902278_524021493066175_1175298567015561883_n.jpg
END:VEVENT
BEGIN:VEVENT
DTSTART;TZID=Europe/Helsinki:20221027T140000
DTEND;TZID=Europe/Helsinki:20221027T160000
DTSTAMP:20260424T070922
CREATED:20221027T093257Z
LAST-MODIFIED:20221027T093257Z
UID:3677-1666879200-1666886400@dei.lutheran.hu
SUMMARY:Gólyaavató az 5. évfolyamosoknak
DESCRIPTION:Vicces\, játékos gólyaavatót tartunk az idén ötödik évfolyamba lépett a\, b és c osztálynak. A diákok bemutatkozója mellett sorversenyek\, ügyességi játékok színesítik a délutánt.
URL:https://dei.lutheran.hu/event/golyaavato-az-5-evfolyamosoknak/
LOCATION:Iskola tornacsarnoka\, Dombóvár
CATEGORIES:iskolai rendezvény
END:VEVENT
END:VCALENDAR