BEGIN:VCALENDAR
VERSION:2.0
PRODID:-//Dombóvári Cséry Lajos Evangélikus Általános Iskola és Alapfokú Művészeti Iskola - ECPv5.14.1//NONSGML v1.0//EN
CALSCALE:GREGORIAN
METHOD:PUBLISH
X-WR-CALNAME:Dombóvári Cséry Lajos Evangélikus Általános Iskola és Alapfokú Művészeti Iskola
X-ORIGINAL-URL:https://dei.lutheran.hu
X-WR-CALDESC:Events for Dombóvári Cséry Lajos Evangélikus Általános Iskola és Alapfokú Művészeti Iskola
REFRESH-INTERVAL;VALUE=DURATION:PT1H
X-Robots-Tag:noindex
X-PUBLISHED-TTL:PT1H
BEGIN:VTIMEZONE
TZID:Europe/Helsinki
BEGIN:DAYLIGHT
TZOFFSETFROM:+0200
TZOFFSETTO:+0300
TZNAME:EEST
DTSTART:20250330T010000
END:DAYLIGHT
BEGIN:STANDARD
TZOFFSETFROM:+0300
TZOFFSETTO:+0200
TZNAME:EET
DTSTART:20251026T010000
END:STANDARD
BEGIN:DAYLIGHT
TZOFFSETFROM:+0200
TZOFFSETTO:+0300
TZNAME:EEST
DTSTART:20260329T010000
END:DAYLIGHT
BEGIN:STANDARD
TZOFFSETFROM:+0300
TZOFFSETTO:+0200
TZNAME:EET
DTSTART:20261025T010000
END:STANDARD
END:VTIMEZONE
BEGIN:VEVENT
DTSTART;TZID=Europe/Helsinki:20251130T103000
DTEND;TZID=Europe/Helsinki:20251130T113000
DTSTAMP:20260421T083417
CREATED:20251016T061834Z
LAST-MODIFIED:20251016T061834Z
UID:8045-1764498600-1764502200@dei.lutheran.hu
SUMMARY:Advent első vasárnapja - Istentisztelet az evangélikus templomban
DESCRIPTION:
URL:https://dei.lutheran.hu/event/advent-elso-vasarnapja-istentisztelet-az-evangelikus-templomban/
LOCATION:Dombóvári Evangélikus Templom
END:VEVENT
BEGIN:VEVENT
DTSTART;TZID=Europe/Helsinki:20251130T170000
DTEND;TZID=Europe/Helsinki:20251130T180000
DTSTAMP:20260421T083417
CREATED:20251016T061920Z
LAST-MODIFIED:20251016T061920Z
UID:8047-1764522000-1764525600@dei.lutheran.hu
SUMMARY:Advent első vasárnapja - Városi ünnepség
DESCRIPTION:
URL:https://dei.lutheran.hu/event/advent-elso-vasarnapja-varosi-unnepseg/
END:VEVENT
BEGIN:VEVENT
DTSTART;TZID=Europe/Helsinki:20251213T090000
DTEND;TZID=Europe/Helsinki:20251213T160000
DTSTAMP:20260421T083417
CREATED:20251113T073142Z
LAST-MODIFIED:20251113T073142Z
UID:8059-1765616400-1765641600@dei.lutheran.hu
SUMMARY:III. Röplabda találkozó
DESCRIPTION:
URL:https://dei.lutheran.hu/event/iii-roplabda-talalkozo/
LOCATION:Dombóvári Cséry Lajos Evangélikus Iskola
CATEGORIES:iskolai rendezvény
ATTACH;FMTTYPE=image/jpeg:https://dei.lutheran.hu/wp-content/uploads/2025/11/III.-roplabda-talakozo.jpg
END:VEVENT
BEGIN:VEVENT
DTSTART;TZID=Europe/Helsinki:20260131T200000
DTEND;TZID=Europe/Helsinki:20260201T040000
DTSTAMP:20260421T083417
CREATED:20260126T085214Z
LAST-MODIFIED:20260126T085214Z
UID:8142-1769889600-1769918400@dei.lutheran.hu
SUMMARY:Pót-Szilveszteri Bál
DESCRIPTION:
URL:https://dei.lutheran.hu/event/pot-szilveszteri-bal/
CATEGORIES:iskolai rendezvény
ATTACH;FMTTYPE=image/jpeg:https://dei.lutheran.hu/wp-content/uploads/2026/01/Bal.jpg
END:VEVENT
END:VCALENDAR