BEGIN:VCALENDAR
VERSION:2.0
PRODID:-//Dombóvári Cséry Lajos Evangélikus Általános Iskola és Alapfokú Művészeti Iskola - ECPv5.14.1//NONSGML v1.0//EN
CALSCALE:GREGORIAN
METHOD:PUBLISH
X-WR-CALNAME:Dombóvári Cséry Lajos Evangélikus Általános Iskola és Alapfokú Művészeti Iskola
X-ORIGINAL-URL:https://dei.lutheran.hu
X-WR-CALDESC:Events for Dombóvári Cséry Lajos Evangélikus Általános Iskola és Alapfokú Művészeti Iskola
REFRESH-INTERVAL;VALUE=DURATION:PT1H
X-Robots-Tag:noindex
X-PUBLISHED-TTL:PT1H
BEGIN:VTIMEZONE
TZID:Europe/Helsinki
BEGIN:DAYLIGHT
TZOFFSETFROM:+0200
TZOFFSETTO:+0300
TZNAME:EEST
DTSTART:20250330T010000
END:DAYLIGHT
BEGIN:STANDARD
TZOFFSETFROM:+0300
TZOFFSETTO:+0200
TZNAME:EET
DTSTART:20251026T010000
END:STANDARD
BEGIN:DAYLIGHT
TZOFFSETFROM:+0200
TZOFFSETTO:+0300
TZNAME:EEST
DTSTART:20260329T010000
END:DAYLIGHT
BEGIN:STANDARD
TZOFFSETFROM:+0300
TZOFFSETTO:+0200
TZNAME:EET
DTSTART:20261025T010000
END:STANDARD
END:VTIMEZONE
BEGIN:VEVENT
DTSTART;TZID=Europe/Helsinki:20251107T140000
DTEND;TZID=Europe/Helsinki:20251107T150000
DTSTAMP:20260421T131851
CREATED:20251016T061158Z
LAST-MODIFIED:20251016T061158Z
UID:8035-1762524000-1762527600@dei.lutheran.hu
SUMMARY:Bolyai Anyanyelvi Csapatverseny
DESCRIPTION:
URL:https://dei.lutheran.hu/event/bolyai-anyanyelvi-csapatverseny/
END:VEVENT
BEGIN:VEVENT
DTSTART;TZID=Europe/Helsinki:20251110T160000
DTEND;TZID=Europe/Helsinki:20251110T190000
DTSTAMP:20260421T131851
CREATED:20251016T061258Z
LAST-MODIFIED:20251016T061258Z
UID:8037-1762790400-1762801200@dei.lutheran.hu
SUMMARY:Márton Napi Őszi fesztivál
DESCRIPTION:
URL:https://dei.lutheran.hu/event/marton-napi-oszi-fesztival/
LOCATION:Dombóvári Cséry Lajos Evangélikus Iskola
END:VEVENT
BEGIN:VEVENT
DTSTART;TZID=Europe/Helsinki:20251111T080000
DTEND;TZID=Europe/Helsinki:20251111T153000
DTSTAMP:20260421T131851
CREATED:20251016T061433Z
LAST-MODIFIED:20251016T061433Z
UID:8039-1762848000-1762875000@dei.lutheran.hu
SUMMARY:Dombóvári Illyés Gyula Gimnázium - Nyílt nap
DESCRIPTION:
URL:https://dei.lutheran.hu/event/dombovari-illyes-gyula-gimnazium-nyilt-nap/
LOCATION:Illyés Gyula Gimnázium\, Bajcsy-Zsilinszky u. 2.\, Dombóvár
END:VEVENT
BEGIN:VEVENT
DTSTART;TZID=Europe/Helsinki:20251112T140000
DTEND;TZID=Europe/Helsinki:20251112T150000
DTSTAMP:20260421T131851
CREATED:20251016T061542Z
LAST-MODIFIED:20251016T061542Z
UID:8041-1762956000-1762959600@dei.lutheran.hu
SUMMARY:Bendegúz NyelvÉSz Anyanyelvi Tanulmányi Verseny
DESCRIPTION:
URL:https://dei.lutheran.hu/event/bendeguz-nyelvesz-anyanyelvi-tanulmanyi-verseny/
END:VEVENT
BEGIN:VEVENT
DTSTART;TZID=Europe/Helsinki:20251115T080000
DTEND;TZID=Europe/Helsinki:20251115T153000
DTSTAMP:20260421T131851
CREATED:20251016T061705Z
LAST-MODIFIED:20251016T061705Z
UID:8043-1763193600-1763220600@dei.lutheran.hu
SUMMARY:Dombóvári Illyés Gyula Gimnázium - Nyílt nap
DESCRIPTION:
URL:https://dei.lutheran.hu/event/dombovari-illyes-gyula-gimnazium-nyilt-nap-2/
LOCATION:Illyés Gyula Gimnázium\, Bajcsy-Zsilinszky u. 2.\, Dombóvár
END:VEVENT
BEGIN:VEVENT
DTSTART;TZID=Europe/Helsinki:20251130T103000
DTEND;TZID=Europe/Helsinki:20251130T113000
DTSTAMP:20260421T131851
CREATED:20251016T061834Z
LAST-MODIFIED:20251016T061834Z
UID:8045-1764498600-1764502200@dei.lutheran.hu
SUMMARY:Advent első vasárnapja - Istentisztelet az evangélikus templomban
DESCRIPTION:
URL:https://dei.lutheran.hu/event/advent-elso-vasarnapja-istentisztelet-az-evangelikus-templomban/
LOCATION:Dombóvári Evangélikus Templom
END:VEVENT
BEGIN:VEVENT
DTSTART;TZID=Europe/Helsinki:20251130T170000
DTEND;TZID=Europe/Helsinki:20251130T180000
DTSTAMP:20260421T131851
CREATED:20251016T061920Z
LAST-MODIFIED:20251016T061920Z
UID:8047-1764522000-1764525600@dei.lutheran.hu
SUMMARY:Advent első vasárnapja - Városi ünnepség
DESCRIPTION:
URL:https://dei.lutheran.hu/event/advent-elso-vasarnapja-varosi-unnepseg/
END:VEVENT
BEGIN:VEVENT
DTSTART;TZID=Europe/Helsinki:20251213T090000
DTEND;TZID=Europe/Helsinki:20251213T160000
DTSTAMP:20260421T131851
CREATED:20251113T073142Z
LAST-MODIFIED:20251113T073142Z
UID:8059-1765616400-1765641600@dei.lutheran.hu
SUMMARY:III. Röplabda találkozó
DESCRIPTION:
URL:https://dei.lutheran.hu/event/iii-roplabda-talalkozo/
LOCATION:Dombóvári Cséry Lajos Evangélikus Iskola
CATEGORIES:iskolai rendezvény
ATTACH;FMTTYPE=image/jpeg:https://dei.lutheran.hu/wp-content/uploads/2025/11/III.-roplabda-talakozo.jpg
END:VEVENT
BEGIN:VEVENT
DTSTART;TZID=Europe/Helsinki:20260131T200000
DTEND;TZID=Europe/Helsinki:20260201T040000
DTSTAMP:20260421T131851
CREATED:20260126T085214Z
LAST-MODIFIED:20260126T085214Z
UID:8142-1769889600-1769918400@dei.lutheran.hu
SUMMARY:Pót-Szilveszteri Bál
DESCRIPTION:
URL:https://dei.lutheran.hu/event/pot-szilveszteri-bal/
CATEGORIES:iskolai rendezvény
ATTACH;FMTTYPE=image/jpeg:https://dei.lutheran.hu/wp-content/uploads/2026/01/Bal.jpg
END:VEVENT
END:VCALENDAR