BEGIN:VCALENDAR
VERSION:2.0
PRODID:-//Dombóvári Cséry Lajos Evangélikus Általános Iskola és Alapfokú Művészeti Iskola - ECPv5.14.1//NONSGML v1.0//EN
CALSCALE:GREGORIAN
METHOD:PUBLISH
X-WR-CALNAME:Dombóvári Cséry Lajos Evangélikus Általános Iskola és Alapfokú Művészeti Iskola
X-ORIGINAL-URL:https://dei.lutheran.hu
X-WR-CALDESC:Events for Dombóvári Cséry Lajos Evangélikus Általános Iskola és Alapfokú Művészeti Iskola
REFRESH-INTERVAL;VALUE=DURATION:PT1H
X-Robots-Tag:noindex
X-PUBLISHED-TTL:PT1H
BEGIN:VTIMEZONE
TZID:Europe/Helsinki
BEGIN:DAYLIGHT
TZOFFSETFROM:+0200
TZOFFSETTO:+0300
TZNAME:EEST
DTSTART:20240331T010000
END:DAYLIGHT
BEGIN:STANDARD
TZOFFSETFROM:+0300
TZOFFSETTO:+0200
TZNAME:EET
DTSTART:20241027T010000
END:STANDARD
END:VTIMEZONE
BEGIN:VEVENT
DTSTART;TZID=Europe/Helsinki:20240907T080000
DTEND;TZID=Europe/Helsinki:20240907T170000
DTSTAMP:20260424T082054
CREATED:20240920T065554Z
LAST-MODIFIED:20240920T065554Z
UID:5649-1725696000-1725728400@dei.lutheran.hu
SUMMARY:Névadó Ünnepség
DESCRIPTION:“Tiszteld a múltat\, hogy érthesd a jelent\, és munkálkodhass a jövőn…” (Gróf Széchenyi István)
URL:https://dei.lutheran.hu/event/nevado-unnepseg-2/
ATTACH;FMTTYPE=image/jpeg:https://dei.lutheran.hu/wp-content/uploads/2024/09/02-Iskola-10.jpg
END:VEVENT
BEGIN:VEVENT
DTSTART;TZID=Europe/Helsinki:20240907T100000
DTEND;TZID=Europe/Helsinki:20240907T120000
DTSTAMP:20260424T082054
CREATED:20240904T071256Z
LAST-MODIFIED:20240920T065737Z
UID:5614-1725703200-1725710400@dei.lutheran.hu
SUMMARY:Névadó ünnepség
DESCRIPTION:
URL:https://dei.lutheran.hu/event/nevado-unnepseg/
ATTACH;FMTTYPE=image/png:https://dei.lutheran.hu/wp-content/uploads/2024/09/meghívó-plakát-2.png
END:VEVENT
END:VCALENDAR